BEGIN:VCALENDAR
VERSION:2.0
PRODID:-//Canadian Recruiter Networking Group - ECPv6.15.17.1//NONSGML v1.0//EN
CALSCALE:GREGORIAN
METHOD:PUBLISH
X-WR-CALNAME:Canadian Recruiter Networking Group
X-ORIGINAL-URL:https://canadianrecruiter.ca
X-WR-CALDESC:Events for Canadian Recruiter Networking Group
REFRESH-INTERVAL;VALUE=DURATION:PT1H
X-Robots-Tag:noindex
X-PUBLISHED-TTL:PT1H
BEGIN:VTIMEZONE
TZID:America/Edmonton
BEGIN:DAYLIGHT
TZOFFSETFROM:-0700
TZOFFSETTO:-0600
TZNAME:MDT
DTSTART:20220313T090000
END:DAYLIGHT
BEGIN:STANDARD
TZOFFSETFROM:-0600
TZOFFSETTO:-0700
TZNAME:MST
DTSTART:20221106T080000
END:STANDARD
BEGIN:DAYLIGHT
TZOFFSETFROM:-0700
TZOFFSETTO:-0600
TZNAME:MDT
DTSTART:20230312T090000
END:DAYLIGHT
BEGIN:STANDARD
TZOFFSETFROM:-0600
TZOFFSETTO:-0700
TZNAME:MST
DTSTART:20231105T080000
END:STANDARD
BEGIN:DAYLIGHT
TZOFFSETFROM:-0700
TZOFFSETTO:-0600
TZNAME:MDT
DTSTART:20240310T090000
END:DAYLIGHT
BEGIN:STANDARD
TZOFFSETFROM:-0600
TZOFFSETTO:-0700
TZNAME:MST
DTSTART:20241103T080000
END:STANDARD
END:VTIMEZONE
BEGIN:VEVENT
DTSTART;TZID=America/Edmonton:20230622T160000
DTEND;TZID=America/Edmonton:20230622T190000
DTSTAMP:20260425T102810
CREATED:20230515T175439Z
LAST-MODIFIED:20230515T182833Z
UID:3732-1687449600-1687460400@canadianrecruiter.ca
SUMMARY:Vancouver Recruiter Networking Event (in-person) - June 22\, 2023 > 5pm - 8pm PST
DESCRIPTION:VANCOUVER\, WE ARE BACK! \nAfter a very successful Recruiter Networking Event in November 2022\, The Canadian Recruiter Networking Group\, in collaboration with KPMG\, is hosting another in-person Recruiter Networking Event in Vancouver on Thursday June 22\, 2023 from 5pm – 8pm (PST) \nThe location for this upcoming event is the “K-Café” at the KPMG Offices on 777 Dunsmuir Street\, 3rd Floor in Vancouver! \nRegistration is open! Book your ticket now! There are only 80 available spots!! \nYour ticket purchase will secure your spot for this event\, provide you with food options and a great time connecting with industry peers! \nWe look forward to seeing you there and make sure to spread the word about this exclusive Recruiter Networking Event! \n  \nPlease note: If for some reason we need to cancel the event\, we will refund your ticket price.
URL:https://canadianrecruiter.ca/event/yvr220623/
LOCATION:KPMG Vancouver – “K-Café”\, 777 Dunsmuir Street\, 3rd Floor\, Vancouver\, British Columbia\, V7Y 1K3\, Canada
CATEGORIES:CRNG In-person Event
ATTACH;FMTTYPE=image/png:https://canadianrecruiter.ca/wp-content/uploads/2023/05/Untitled-design-1.png
ORGANIZER;CN="Will":MAILTO:will@canadianrecruiter.ca
END:VEVENT
END:VCALENDAR