BEGIN:VCALENDAR
VERSION:2.0
PRODID:-//Canadian Recruiter Networking Group - ECPv6.15.17.1//NONSGML v1.0//EN
CALSCALE:GREGORIAN
METHOD:PUBLISH
X-ORIGINAL-URL:https://canadianrecruiter.ca
X-WR-CALDESC:Events for Canadian Recruiter Networking Group
REFRESH-INTERVAL;VALUE=DURATION:PT1H
X-Robots-Tag:noindex
X-PUBLISHED-TTL:PT1H
BEGIN:VTIMEZONE
TZID:America/Edmonton
BEGIN:DAYLIGHT
TZOFFSETFROM:-0700
TZOFFSETTO:-0600
TZNAME:MDT
DTSTART:20230312T090000
END:DAYLIGHT
BEGIN:STANDARD
TZOFFSETFROM:-0600
TZOFFSETTO:-0700
TZNAME:MST
DTSTART:20231105T080000
END:STANDARD
BEGIN:DAYLIGHT
TZOFFSETFROM:-0700
TZOFFSETTO:-0600
TZNAME:MDT
DTSTART:20240310T090000
END:DAYLIGHT
BEGIN:STANDARD
TZOFFSETFROM:-0600
TZOFFSETTO:-0700
TZNAME:MST
DTSTART:20241103T080000
END:STANDARD
BEGIN:DAYLIGHT
TZOFFSETFROM:-0700
TZOFFSETTO:-0600
TZNAME:MDT
DTSTART:20250309T090000
END:DAYLIGHT
BEGIN:STANDARD
TZOFFSETFROM:-0600
TZOFFSETTO:-0700
TZNAME:MST
DTSTART:20251102T080000
END:STANDARD
END:VTIMEZONE
BEGIN:VEVENT
DTSTART;TZID=America/Edmonton:20240222T170000
DTEND;TZID=America/Edmonton:20240222T200000
DTSTAMP:20260424T192933
CREATED:20240112T154127Z
LAST-MODIFIED:20240207T215517Z
UID:4112-1708621200-1708632000@canadianrecruiter.ca
SUMMARY:CALGARY RECRUITER NETWORKING EVENT - FEB. 22\, 2024 - SOLD OUT BUT ........ (check the event for more info)
DESCRIPTION:🌟 We DID IT! 100 Recruitment Industry Peers have registered for this upcoming event 🌟 \nMissed to Register as one of the 100 for the Early Bird Ticket Option? No Problem! \nIf you missed out on the Early Bird ticket option for our upcoming Recruiter Networking Event\, don’t worry! Simply send an email to will@canadianrecruiter.ca\, and we’ll do our best to accommodate your request. Please note that late registration tickets are available for $25. \n  \n🌟 Calgary Recruiter Networking Event – February 22\, 2024! 🌟 \nWe’re thrilled to invite you to the upcoming Calgary Recruiter Networking event on February 22\, 2024. Following the success of our November gathering with over 80 enthusiastic professionals\, the goal is to bring together 100 industry peers for an even more impactful experience this time. \nWe’re also excited to announce that we will be meeting at the fantastic venue of Trolley5 where we’ll have a private room\, bar\, delicious food\, and all the elements to make this networking event memorable. \nRegistration is open 🎉\, allowing you to secure your spot early and spread the word among your industry peers. We’re proud to announce that Verve Recruitment Group is graciously supporting this event as our Event Sponsor\, adding an extra layer of excellence to the occasion. Thank you Kim and team! \nIn line with the changes in organizing events and rising costs\, the ticket price for this event has increased to $20 (Early Bird pricing). 🎟️ Your ticket not only grants you access to this exclusive recruitment industry peer gathering but also includes a complimentary drink\, finger foods\, and\, of course\, the opportunity to connect with nearly 100 industry peers in a dynamic and relaxed atmosphere. \nDon’t miss out on this fantastic opportunity to network\, share insights\, and build valuable connections within the recruiting community. Secure your ticket now and join us for an evening of camaraderie and professional growth! 🤝 \nLooking forward to welcoming you on February 22nd for a night of social networking excellence. \nPLEASE NOTE: It pays off to register early!\nTickets sold after February 8th (or once the first 100 are sold) will increase to $25 each.
URL:https://canadianrecruiter.ca/event/calgary-recruiter-networking-event-february-22-2024/
LOCATION:Trolley5\, 728 17 Ave SW\, Calgary\, Alberta\, T2W 0B7\, Canada
ATTACH;FMTTYPE=image/png:https://canadianrecruiter.ca/wp-content/uploads/2024/01/Copy-of-Copy-of-CALGARY-RECRUITER-MEETUP-1.png
ORGANIZER;CN="Will":MAILTO:will@canadianrecruiter.ca
END:VEVENT
END:VCALENDAR