BEGIN:VCALENDAR
VERSION:2.0
PRODID:-//Canadian Recruiter Networking Group - ECPv6.15.17.1//NONSGML v1.0//EN
CALSCALE:GREGORIAN
METHOD:PUBLISH
X-ORIGINAL-URL:https://canadianrecruiter.ca
X-WR-CALDESC:Events for Canadian Recruiter Networking Group
REFRESH-INTERVAL;VALUE=DURATION:PT1H
X-Robots-Tag:noindex
X-PUBLISHED-TTL:PT1H
BEGIN:VTIMEZONE
TZID:America/Edmonton
BEGIN:DAYLIGHT
TZOFFSETFROM:-0700
TZOFFSETTO:-0600
TZNAME:MDT
DTSTART:20250309T090000
END:DAYLIGHT
BEGIN:STANDARD
TZOFFSETFROM:-0600
TZOFFSETTO:-0700
TZNAME:MST
DTSTART:20251102T080000
END:STANDARD
BEGIN:DAYLIGHT
TZOFFSETFROM:-0700
TZOFFSETTO:-0600
TZNAME:MDT
DTSTART:20260308T090000
END:DAYLIGHT
BEGIN:STANDARD
TZOFFSETFROM:-0600
TZOFFSETTO:-0700
TZNAME:MST
DTSTART:20261101T080000
END:STANDARD
BEGIN:DAYLIGHT
TZOFFSETFROM:-0700
TZOFFSETTO:-0600
TZNAME:MDT
DTSTART:20270314T090000
END:DAYLIGHT
BEGIN:STANDARD
TZOFFSETFROM:-0600
TZOFFSETTO:-0700
TZNAME:MST
DTSTART:20271107T080000
END:STANDARD
END:VTIMEZONE
BEGIN:VEVENT
DTSTART;TZID=America/Edmonton:20260408T120000
DTEND;TZID=America/Edmonton:20260408T130000
DTSTAMP:20260423T150118
CREATED:20260325T024503Z
LAST-MODIFIED:20260325T034747Z
UID:5850-1775649600-1775653200@canadianrecruiter.ca
SUMMARY:Canadian Recruiter Networking — Virtual Connect
DESCRIPTION:Most virtual networking calls don’t work. \nToo many people. Too much talking. Not enough actual connection. \nThis session is different. \nThe Canadian Recruiter Networking — Virtual Connect is designed for small-group\, structured conversations with recruiters across Canada. No presentations. No drawn-out intros. Just focused breakout discussions where you’ll actually meet people and exchange what’s happening in the market right now. \nSpots are limited to keep the rooms small and the conversations meaningful. \nIf you’re joining\, come ready to engage. \nSession topic: What’s Actually Hard to Fill Right Now? \nThis session brings together both agency recruiters and in-house Talent Acquisition professionals. \nThe goal is simple: share what’s actually happening in the market\, learn from each other\, and build real peer connections — not pitch services.
URL:https://canadianrecruiter.ca/event/canadian-recruiter-networking-virtual-connect/
LOCATION:Zoom Meeting
CATEGORIES:CRNG Virtual Events
ATTACH;FMTTYPE=image/png:https://canadianrecruiter.ca/wp-content/uploads/2026/03/CRNG-Virtual-Connect.png
ORGANIZER;CN="Will":MAILTO:will@canadianrecruiter.ca
END:VEVENT
END:VCALENDAR