BEGIN:VCALENDAR
VERSION:2.0
PRODID:-//Canadian Recruiter Networking Group - ECPv6.15.17.1//NONSGML v1.0//EN
CALSCALE:GREGORIAN
METHOD:PUBLISH
X-WR-CALNAME:Canadian Recruiter Networking Group
X-ORIGINAL-URL:https://canadianrecruiter.ca
X-WR-CALDESC:Events for Canadian Recruiter Networking Group
REFRESH-INTERVAL;VALUE=DURATION:PT1H
X-Robots-Tag:noindex
X-PUBLISHED-TTL:PT1H
BEGIN:VTIMEZONE
TZID:America/Edmonton
BEGIN:DAYLIGHT
TZOFFSETFROM:-0700
TZOFFSETTO:-0600
TZNAME:MDT
DTSTART:20200308T090000
END:DAYLIGHT
BEGIN:STANDARD
TZOFFSETFROM:-0600
TZOFFSETTO:-0700
TZNAME:MST
DTSTART:20201101T080000
END:STANDARD
BEGIN:DAYLIGHT
TZOFFSETFROM:-0700
TZOFFSETTO:-0600
TZNAME:MDT
DTSTART:20210314T090000
END:DAYLIGHT
BEGIN:STANDARD
TZOFFSETFROM:-0600
TZOFFSETTO:-0700
TZNAME:MST
DTSTART:20211107T080000
END:STANDARD
BEGIN:DAYLIGHT
TZOFFSETFROM:-0700
TZOFFSETTO:-0600
TZNAME:MDT
DTSTART:20220313T090000
END:DAYLIGHT
BEGIN:STANDARD
TZOFFSETFROM:-0600
TZOFFSETTO:-0700
TZNAME:MST
DTSTART:20221106T080000
END:STANDARD
BEGIN:DAYLIGHT
TZOFFSETFROM:-0700
TZOFFSETTO:-0600
TZNAME:MDT
DTSTART:20230312T090000
END:DAYLIGHT
BEGIN:STANDARD
TZOFFSETFROM:-0600
TZOFFSETTO:-0700
TZNAME:MST
DTSTART:20231105T080000
END:STANDARD
BEGIN:DAYLIGHT
TZOFFSETFROM:-0700
TZOFFSETTO:-0600
TZNAME:MDT
DTSTART:20240310T090000
END:DAYLIGHT
BEGIN:STANDARD
TZOFFSETFROM:-0600
TZOFFSETTO:-0700
TZNAME:MST
DTSTART:20241103T080000
END:STANDARD
BEGIN:DAYLIGHT
TZOFFSETFROM:-0700
TZOFFSETTO:-0600
TZNAME:MDT
DTSTART:20250309T090000
END:DAYLIGHT
BEGIN:STANDARD
TZOFFSETFROM:-0600
TZOFFSETTO:-0700
TZNAME:MST
DTSTART:20251102T080000
END:STANDARD
BEGIN:DAYLIGHT
TZOFFSETFROM:-0700
TZOFFSETTO:-0600
TZNAME:MDT
DTSTART:20260308T090000
END:DAYLIGHT
BEGIN:STANDARD
TZOFFSETFROM:-0600
TZOFFSETTO:-0700
TZNAME:MST
DTSTART:20261101T080000
END:STANDARD
BEGIN:DAYLIGHT
TZOFFSETFROM:-0700
TZOFFSETTO:-0600
TZNAME:MDT
DTSTART:20270314T090000
END:DAYLIGHT
BEGIN:STANDARD
TZOFFSETFROM:-0600
TZOFFSETTO:-0700
TZNAME:MST
DTSTART:20271107T080000
END:STANDARD
END:VTIMEZONE
BEGIN:VEVENT
DTSTART;TZID=America/Edmonton:20260408T120000
DTEND;TZID=America/Edmonton:20260408T130000
DTSTAMP:20260423T124401
CREATED:20260325T024503Z
LAST-MODIFIED:20260325T034747Z
UID:5850-1775649600-1775653200@canadianrecruiter.ca
SUMMARY:Canadian Recruiter Networking — Virtual Connect
DESCRIPTION:Most virtual networking calls don’t work. \nToo many people. Too much talking. Not enough actual connection. \nThis session is different. \nThe Canadian Recruiter Networking — Virtual Connect is designed for small-group\, structured conversations with recruiters across Canada. No presentations. No drawn-out intros. Just focused breakout discussions where you’ll actually meet people and exchange what’s happening in the market right now. \nSpots are limited to keep the rooms small and the conversations meaningful. \nIf you’re joining\, come ready to engage. \nSession topic: What’s Actually Hard to Fill Right Now? \nThis session brings together both agency recruiters and in-house Talent Acquisition professionals. \nThe goal is simple: share what’s actually happening in the market\, learn from each other\, and build real peer connections — not pitch services.
URL:https://canadianrecruiter.ca/event/canadian-recruiter-networking-virtual-connect/
LOCATION:Zoom Meeting
CATEGORIES:CRNG Virtual Events
ATTACH;FMTTYPE=image/png:https://canadianrecruiter.ca/wp-content/uploads/2026/03/CRNG-Virtual-Connect.png
ORGANIZER;CN="Will":MAILTO:will@canadianrecruiter.ca
END:VEVENT
BEGIN:VEVENT
DTSTART;TZID=America/Edmonton:20220915T120000
DTEND;TZID=America/Edmonton:20220915T130000
DTSTAMP:20260423T124401
CREATED:20220726T194621Z
LAST-MODIFIED:20220901T174054Z
UID:2901-1663243200-1663246800@canadianrecruiter.ca
SUMMARY:End-to-End Candidate Experience & Negotiations by Pascal Theriault
DESCRIPTION:Pascal Theriault brings 5+ years of recruitment and selection experience across energy\, agriculture\, engineering systems integration\, online grocery\, and software businesses. \nHe has hired and negotiated job offers with hundreds of candidates ranging from interns and new graduates up to VP-level positions across all teams and departments in these businesses. \nMost recently\, Pascal led recruitment and employer branding at a remote tech startup based in Palo Alto\, California\, called HiHello\, which builds the world-leading digital business card and contact management software solution for individuals and organizations. \nBased in Calgary\, Pascal is heavily involved in the Calgary community through his speaking\, recruitment consulting\, career coaching\, and networking efforts both online and offline. \nHe is passionate about DEIB in the workplace (and as it relates to hiring)\, providing an excellent and equitable Candidate Experience\, advocating for the benefits of networking\, and building his personal brand\, as well as helping others to build theirs! \nOutside of work\, Pascal enjoys spending time with friends\, family\, and his dog Astro\, traveling and trying out new restaurants and breweries around Calgary.
URL:https://canadianrecruiter.ca/event/end-to-end-candidate-experience-negotiations-by-pascal-theriault/
LOCATION:Zoom Meeting
CATEGORIES:CRNG Virtual Events
ATTACH;FMTTYPE=image/jpeg:https://canadianrecruiter.ca/wp-content/uploads/2022/07/Pascal-Theriault-Headshot.jpeg
END:VEVENT
BEGIN:VEVENT
DTSTART;TZID=America/Edmonton:20220526T120000
DTEND;TZID=America/Edmonton:20220526T130000
DTSTAMP:20260423T124401
CREATED:20220425T163927Z
LAST-MODIFIED:20220621T211903Z
UID:2887-1653566400-1653570000@canadianrecruiter.ca
SUMMARY:Recruiter (Personal) Branding by Kim Wilkinson (Recording)
DESCRIPTION:In short\, it’s all about “Why you?” Personal branding helps individuals become conscious of their differences\, ultimately allowing them to position themselves in a way that makes them stand out in the pack among other professionals. \nYes\, personal branding is not just something for job applicants. It is critical for Recruiters as well! Having a strong corporate brand is great but in the end\, job applicants and potential clients (for agency recruiters) are looking to speak with you. \nSo how do you go about that? \nWell\, I am excited to announce that Kim Wilkinson has agreed to share her knowledge with us on that topic on Thursday May 26\, 2022. \nKim is an Industry Peer who has 10+ years of recruitment / staffing experience and has successfully started her own firm nearly 3 years ago. One thing Kim has done really well is build her personal (online) brand. In fact\, she has done this so well that she is invited to speak on LinkedIn’s Career Talks series on April 28 about How to Become a Sought After Candidate. \nAnd Kim will be speaking with us (the Canadian Recruiter Networking Group) on May 26 to also share her insights how we can build our brand! \nMake sure to join us!
URL:https://canadianrecruiter.ca/event/recruiter-personal-branding-by-kim-wilkinson/
LOCATION:Zoom Meeting
CATEGORIES:CRNG Virtual Events
ATTACH;FMTTYPE=image/jpeg:https://canadianrecruiter.ca/wp-content/uploads/2022/04/LI-Kim-Wilkinson.jpeg
ORGANIZER;CN="Will":MAILTO:will@canadianrecruiter.ca
END:VEVENT
BEGIN:VEVENT
DTSTART;TZID=America/Edmonton:20220224T120000
DTEND;TZID=America/Edmonton:20220224T130000
DTSTAMP:20260423T124401
CREATED:20220201T171551Z
LAST-MODIFIED:20220425T165525Z
UID:2851-1645704000-1645707600@canadianrecruiter.ca
SUMMARY:Diversity Sourcing by David Galley (RECORDING)
DESCRIPTION:Hey there – my name’s David Galley\, and I think we all know who writes these\, so why mess around with the third person? Hiring starts with finding\, and finding is what I do. If our prospects are online\, we can find them\, whoever they are. \nWhen I’m not sourcing directly for clients\, I spend my time figuring out how to search better\, then passing that on to others through the Sourcing Training & Certifications library of offerings and bespoke training for companies of all sizes (even one). There are six core skill groups that proficient Sourcers need to know – we teach them all\, and then some. We’re also home to the world’s only sourcing professional credentials – the Certified People Sourcing Professional (CPSP) and Certified Diversity Sourcing Professional (CDSP). \n“Diversity” means many things to many people\, but when it comes to the bottom line\, the more diversity within your team (across every axis)\, the better you’ll perform. To realize these gains\, you have to find and engage people you have been missing to date. I know a thing or two about that and I am looking forward to sharing with you. \nMake sure to register via the Zoom Link to receive your personal login code for the event! \nThis event is sponsored by CareerBeacon: Atlantic Canada’s #1 Job Site \n \n  \n  \n 
URL:https://canadianrecruiter.ca/event/diversity-sourcing-by-david-galley/
LOCATION:Zoom Meeting
CATEGORIES:CRNG Virtual Events
ATTACH;FMTTYPE=image/jpeg:https://canadianrecruiter.ca/wp-content/uploads/2022/02/David-Galley-LI-Picture.jpeg
ORGANIZER;CN="Will":MAILTO:will@canadianrecruiter.ca
END:VEVENT
BEGIN:VEVENT
DTSTART;TZID=America/Edmonton:20211209T120000
DTEND;TZID=America/Edmonton:20211209T130000
DTSTAMP:20260423T124401
CREATED:20211022T211422Z
LAST-MODIFIED:20220201T171849Z
UID:2751-1639051200-1639054800@canadianrecruiter.ca
SUMMARY:Let's Draw! by Minke Weenink (Recording)
DESCRIPTION:We think in images and process visual information 60.000 faster than text. \nAnd relevant images ensure that 65% of your message can be reproduced 3 days later. \nIt’s probably not conventional to think about drawing for Recruitment however\, I’m looking forward to learning more about this. Therefore I’m very excited that Minke Weenink will be joining us (from the Netherlands) to teach us how to draw during the upcoming virtual event for the Canadian Recruiter Networking Group on December 9\, 2021. \nMinke is an energetic and passionate trainer who really understands the recruitment industry. And even better\, she knows how to use drawing in a business setting! \nSo if you’re interested in learning a new skill\, add value to your Recruiter / Talent Acquisition / Sourcer role and want to have a good time\, make sure to join us!
URL:https://canadianrecruiter.ca/event/lets-draw-by-minke-weenink/
LOCATION:Zoom Meeting
CATEGORIES:CRNG Virtual Events
ATTACH;FMTTYPE=image/png:https://canadianrecruiter.ca/wp-content/uploads/2021/10/Lets-Draw.png
ORGANIZER;CN="Will":MAILTO:will@canadianrecruiter.ca
END:VEVENT
BEGIN:VEVENT
DTSTART;TZID=America/Edmonton:20211208T120000
DTEND;TZID=America/Edmonton:20211208T130000
DTSTAMP:20260423T124401
CREATED:20211025T200642Z
LAST-MODIFIED:20211210T171005Z
UID:2753-1638964800-1638968400@canadianrecruiter.ca
SUMMARY:Indigenous Recruitment II by Richel Davies - (Recording)
DESCRIPTION:Richel is a Métis woman and a proud member of the Métis Nation of Alberta. She has spent the past fourteen years supporting people of all ages\, cultures\, and abilities through the recruitment process and helping organizations build more inclusive practices. She is an advocate for Indigenous talent and inclusive workplaces where everyone can flourish. \nRichel has worked as a recruiter in various sectors including retail\, finance\, health care\, and market research. She has been responsible for leading hiring campaigns across Canada while supporting employment brand initiatives. \nHer most recent experience includes working with an all Indigenous team supporting Indigenous innovation in a non-profit setting and she is currently the Manager of Indigenous Recruitment at RBC. \nWe are excited that Richel will be joining and teaching us again about indigenous recruitment and welcome you to join us! \n 
URL:https://canadianrecruiter.ca/event/indigenous-recruitment-ii-by-richel-davies-register-via-zoom-link/
LOCATION:Zoom Meeting
CATEGORIES:CRNG Virtual Events
ATTACH;FMTTYPE=image/jpeg:https://canadianrecruiter.ca/wp-content/uploads/2021/08/Headshot-Richel-Davies.jpeg
END:VEVENT
BEGIN:VEVENT
DTSTART;TZID=America/Edmonton:20211104T120000
DTEND;TZID=America/Edmonton:20211104T130000
DTSTAMP:20260423T124401
CREATED:20211022T195337Z
LAST-MODIFIED:20220201T171924Z
UID:2747-1636027200-1636030800@canadianrecruiter.ca
SUMMARY:Resumes are a Privilege II - by Allie Knull (Recording)
DESCRIPTION:Allie’s passion for talent management has spanned her twenty-year career. Although her career started with nation-wide companies\, Allie’s recent focus is helping small business owners master their talent management. She has experience in all things human resources related for companies from one employee to 80\,000 employees. \nAllie is a Chartered Professional in Human Resources (CPHR) with CPHR Alberta and a Registered Professional Recruiter (RPR) with the Institute of Professional Management. She is a Top Recruiter™ in Canada 2019 Award winner placing 10th overall. \nHer absolute disgust for resumes was the driving force behind her start-up\, ResumeFree™\, where they match employers and candidates on over 200 data-points\, without bias\, in as little as 10 days\, all without using a resume.
URL:https://canadianrecruiter.ca/event/resumes-are-a-privilege-ii-by-allie-knull/
LOCATION:Zoom Meeting
CATEGORIES:CRNG Virtual Events
ATTACH;FMTTYPE=image/jpeg:https://canadianrecruiter.ca/wp-content/uploads/2021/06/Headshot-Allie-Knull-ResumeFree.jpeg
ORGANIZER;CN="Will":MAILTO:will@canadianrecruiter.ca
END:VEVENT
END:VCALENDAR